BEGIN:VCALENDAR
VERSION:2.0
PRODID:-//Tukios.com/
BEGIN:VEVENT
UID:3acc0dfd-dcf3-48bd-912b-8959b0511995@www.jacobfruth.com
DTSTAMP:20260422T211937Z
DTSTART:20260613T150000Z
DTEND:20260613T160000Z
SUMMARY:Funeral Mass
DESCRIPTION:
URL:https://www.jacobfruth.com/obituaries/diane-whelihan
LOCATION: 140 East Mount Airy Avenue  Philadelphia PA 19119
GEO:40.0615022;-75.1888762
END:VEVENT
END:VCALENDAR