BEGIN:VCALENDAR
VERSION:2.0
PRODID:-//Tukios.com/
BEGIN:VEVENT
UID:cbfc257a-9250-4c7c-a106-014d2211387e@www.jacobfruth.com
DTSTAMP:20260422T211656Z
DTSTART:20260613
SUMMARY:Burial
DESCRIPTION:
URL:https://www.jacobfruth.com/obituaries/diane-whelihan
LOCATION: 3301 West Cheltenham Avenue  Philadelphia PA 19150
GEO:40.087033;-75.1768406
END:VEVENT
END:VCALENDAR