BEGIN:VCALENDAR
VERSION:2.0
PRODID:-//Tukios.com/
BEGIN:VEVENT
UID:e907c13a-93f6-4583-a6c5-fbb14dbf01d2@www.jacobfruth.com
DTSTAMP:20260423T212428Z
DTSTART:20260502T123000Z
DTEND:20260502T133000Z
SUMMARY:Visitation
DESCRIPTION:
URL:https://www.jacobfruth.com/obituaries/rebecca-bixby
LOCATION: 8000 Saint Martins Lane  Philadelphia PA 19118
GEO:40.065334;-75.206706
END:VEVENT
END:VCALENDAR