BEGIN:VCALENDAR
VERSION:2.0
PRODID:-//Tukios.com/
BEGIN:VEVENT
UID:bb5bfa22-e435-407f-950e-6b5e4f4d5d45@www.jacobfruth.com
DTSTAMP:20260423T212250Z
DTSTART:20260502T140000Z
DTEND:20260502T150000Z
SUMMARY:Funeral Service
DESCRIPTION:
URL:https://www.jacobfruth.com/obituaries/rebecca-bixby
LOCATION: 8000 Saint Martins Lane  Philadelphia PA 19118
GEO:40.065334;-75.206706
END:VEVENT
END:VCALENDAR