BEGIN:VCALENDAR
VERSION:2.0
PRODID:-//Tukios.com/
BEGIN:VEVENT
UID:da39f555-fa08-49fc-b011-14779c4613b6@www.jacobfruth.com
DTSTAMP:20260423T212104Z
DTSTART:20260502
SUMMARY:Interment
DESCRIPTION:
URL:https://www.jacobfruth.com/obituaries/rebecca-bixby
LOCATION:Ivy Hill Cemetery 1201 Easton Road  Philadelphia PA 19150
GEO:40.0731104;-75.1797649
END:VEVENT
END:VCALENDAR