BEGIN:VCALENDAR
VERSION:2.0
PRODID:-//Tukios.com/
BEGIN:VEVENT
UID:043d8e60-ea4b-4067-8674-bc001ac33d93@www.jacobfruth.com
DTSTAMP:20260423T212448Z
DTSTART:20260503T190000Z
DTEND:20260503T200000Z
SUMMARY:Memorial Service
DESCRIPTION:
URL:https://www.jacobfruth.com/obituaries/rebecca-bixby
LOCATION: 47 West Coulter Street  Philadelphia PA 19144
GEO:40.0324291;-75.1721037
END:VEVENT
END:VCALENDAR