BEGIN:VCALENDAR
VERSION:2.0
PRODID:-//Tukios.com/
BEGIN:VEVENT
UID:8a031730-c9c4-4f63-b8b8-e5e63e62cfb6@www.jacobfruth.com
DTSTAMP:20260423T212448Z
DTSTART:20260503T203000Z
DTEND:20260503T213000Z
SUMMARY:Reception
DESCRIPTION:
URL:https://www.jacobfruth.com/obituaries/rebecca-bixby
LOCATION: 31 West Coulter Street  Philadelphia PA 19144
GEO:40.0329955;-75.1710913
END:VEVENT
END:VCALENDAR