BEGIN:VCALENDAR
VERSION:2.0
PRODID:-//Tukios.com/
BEGIN:VEVENT
UID:e13a3b45-c568-40b4-b33f-6c08c4b69b38@www.jacobfruth.com
DTSTAMP:20260423T200311Z
DTSTART:20260501T133000Z
DTEND:20260501T143000Z
SUMMARY:Viewing
DESCRIPTION:
URL:https://www.jacobfruth.com/obituaries/victor-santantonio
LOCATION: 9 East Chestnut Hill Avenue  Philadelphia PA 19118
GEO:40.0788889;-75.2102778
END:VEVENT
END:VCALENDAR