BEGIN:VCALENDAR
VERSION:2.0
PRODID:-//Tukios.com/
BEGIN:VEVENT
UID:ed825d9f-55a1-45bd-8170-c7e64627b0ef@www.jacobfruth.com
DTSTAMP:20260423T201101Z
DTSTART:20260501T143000Z
DTEND:20260501T153000Z
SUMMARY:Funeral Mass
DESCRIPTION:
URL:https://www.jacobfruth.com/obituaries/victor-santantonio
LOCATION: 9 East Chestnut Hill Avenue  Philadelphia PA 19118
GEO:40.0788889;-75.2102778
END:VEVENT
END:VCALENDAR