BEGIN:VCALENDAR
VERSION:2.0
PRODID:-//Tukios.com/
BEGIN:VEVENT
UID:1db88c5b-31e9-40df-bce9-8cef3718bd70@www.jacobfruth.com
DTSTAMP:20260423T200441Z
DTSTART:20260501
SUMMARY:Interment
DESCRIPTION:
URL:https://www.jacobfruth.com/obituaries/victor-santantonio
LOCATION: 3301 West Cheltenham Avenue  Philadelphia PA 19150
GEO:40.087033;-75.1768406
END:VEVENT
END:VCALENDAR